BEGIN:VCALENDAR
VERSION:2.0
PRODID:icalendar-ruby
CALSCALE:GREGORIAN
METHOD:PUBLISH
BEGIN:VEVENT
DTSTAMP:20260422T202754Z
UID:5-1817484@pinebluffbaptistsc.com
DTSTART:20260906T150000Z
DTEND:20260906T160000Z
CLASS:PUBLIC
CREATED:20260224T200644
DESCRIPTION:Sunday Worship
LAST-MODIFIED:20260224T200644
LOCATION:
SUMMARY:Sunday Worship
URL;VALUE=URI:https://www.pinebluffbaptistsc.com/events/sunday-worship/2026
 -09-06
END:VEVENT
END:VCALENDAR
