BEGIN:VCALENDAR
VERSION:2.0
PRODID:icalendar-ruby
CALSCALE:GREGORIAN
METHOD:PUBLISH
BEGIN:VEVENT
DTSTAMP:20260422T185920Z
UID:5-1817483@pinebluffbaptistsc.com
DTSTART:20260830T150000Z
DTEND:20260830T160000Z
CLASS:PUBLIC
CREATED:20260224T200644
DESCRIPTION:Sunday Worship
LAST-MODIFIED:20260224T200644
LOCATION:
SUMMARY:Sunday Worship
URL;VALUE=URI:https://www.pinebluffbaptistsc.com/events/sunday-worship/2026
 -08-30
END:VEVENT
END:VCALENDAR
