BEGIN:VCALENDAR
VERSION:2.0
PRODID:icalendar-ruby
CALSCALE:GREGORIAN
METHOD:PUBLISH
BEGIN:VEVENT
DTSTAMP:20260422T104245Z
UID:8-1817534@pinebluffbaptistsc.com
DTSTART:20260802T140000Z
DTEND:20260802T144500Z
CLASS:PUBLIC
CREATED:20260312T195015
DESCRIPTION:
LAST-MODIFIED:20260312T195015
LOCATION:Classes
SUMMARY:Sunday School
URL;VALUE=URI:https://www.pinebluffbaptistsc.com/events/sunday-school/2026-
 08-02
END:VEVENT
END:VCALENDAR
